BEGIN:VCALENDAR
VERSION:2.0
PRODID:-//stdunstansbethesda.org//NONSGML kigkonsult.se iCalcreator 2.30.10
 //
CALSCALE:GREGORIAN
METHOD:PUBLISH
UID:87f6b993-cf22-40d5-a2d2-56e05222e496
X-WR-CALDESC:
X-WR-RELCALID:8eb72eaff6a593d810866d2c12f7e2d2
X-WR-TIMEZONE:America/New_York
BEGIN:VTIMEZONE
TZID:America/New_York
BEGIN:STANDARD
TZNAME:EST
DTSTART:20241103T020000
TZOFFSETFROM:-0400
TZOFFSETTO:-0500
RDATE:20251102T020000
END:STANDARD
BEGIN:DAYLIGHT
TZNAME:EDT
DTSTART:20250309T020000
TZOFFSETFROM:-0500
TZOFFSETTO:-0400
RDATE:20260308T020000
END:DAYLIGHT
END:VTIMEZONE
BEGIN:VEVENT
UID:6ac71c37-acf4-45f0-b4bd-6d208c6ef7b7
DTSTAMP:20260421T233917Z
DESCRIPTION:
DTSTART;TZID=America/New_York:20250323T120000
DTEND;TZID=America/New_York:20250323T130000
LOCATION:St Dunstan's Episcopal Church - 5450 Massachusetts Ave\, Bethesda\
 , MD - Entrance on Fort Sumner Drive - Free Parking
SUMMARY:Adult Formation - A Conversation with Fire and EMS Chief John A. Do
 nnelly\, Sr.
END:VEVENT
END:VCALENDAR
