BEGIN:VCALENDAR
VERSION:2.0
PRODID:-//stdunstansbethesda.org//NONSGML kigkonsult.se iCalcreator 2.30.10
 //
CALSCALE:GREGORIAN
METHOD:PUBLISH
UID:8edc5720-772a-4ae5-b2a1-00165a9e7594
X-WR-CALDESC:Disability (and) Theology 101: An Intro to Disability and Why 
 this Matters for the Church\nLed by Seminarian Melissa Carnall Fauci
X-WR-RELCALID:efd564040d46c9f674899ed45f57bba4
X-WR-TIMEZONE:America/New_York
BEGIN:VTIMEZONE
TZID:America/New_York
BEGIN:STANDARD
TZNAME:EST
DTSTART:20241103T020000
TZOFFSETFROM:-0400
TZOFFSETTO:-0500
RDATE:20251102T020000
END:STANDARD
BEGIN:DAYLIGHT
TZNAME:EDT
DTSTART:20250309T020000
TZOFFSETFROM:-0500
TZOFFSETTO:-0400
RDATE:20260308T020000
END:DAYLIGHT
END:VTIMEZONE
BEGIN:VEVENT
UID:9b9e98c5-a429-443b-9424-1ebaf41dc99a
DTSTAMP:20260421T234028Z
DESCRIPTION:Disability (and) Theology 101: An Intro to Disability and Why t
 his Matters for the Church\nLed by Seminarian Melissa Carnall Fauci
DTSTART;TZID=America/New_York:20250316T120000
DTEND;TZID=America/New_York:20250316T130000
LOCATION:St Dunstan's Episcopal Church - 5450 Massachusetts Ave\, Bethesda\
 , MD - Entrance on Fort Sumner Drive - Free Parking
SUMMARY:Adult Formation - Disability (and) Theology 101
END:VEVENT
END:VCALENDAR
