BEGIN:VCALENDAR
VERSION:2.0
PRODID:-//stdunstansbethesda.org//NONSGML kigkonsult.se iCalcreator 2.30.10
 //
CALSCALE:GREGORIAN
METHOD:PUBLISH
UID:0d1bdec7-33b1-47bf-8b1c-8d07e826c4bc
X-WR-CALDESC:No preparation or previous Bible Study experience is necessary
 \; we all learn from each other.\n\nCome and see!
X-WR-RELCALID:2a140d1ead59813902f4f8da22d3f008
X-WR-TIMEZONE:America/New_York
BEGIN:VTIMEZONE
TZID:America/New_York
BEGIN:STANDARD
TZNAME:EST
DTSTART:20231105T020000
TZOFFSETFROM:-0400
TZOFFSETTO:-0500
RDATE:20241103T020000
END:STANDARD
BEGIN:DAYLIGHT
TZNAME:EDT
DTSTART:20240310T020000
TZOFFSETFROM:-0500
TZOFFSETTO:-0400
RDATE:20250309T020000
END:DAYLIGHT
END:VTIMEZONE
BEGIN:VEVENT
UID:ec59920c-ef55-4d6a-bb4c-3b28b75aa7ab
DTSTAMP:20260424T205351Z
DESCRIPTION:No preparation or previous Bible Study experience is necessary\
 ; we all learn from each other.\n\nCome and see!
DTSTART;TZID=America/New_York:20240320T103000
DTEND;TZID=America/New_York:20240320T114500
LOCATION:On Zoom
SUMMARY:Bible Study (Zoom)
END:VEVENT
END:VCALENDAR
